BEGIN:VCALENDAR
VERSION:2.0
PRODID:-//UPIKE//NONSGML v1.0//EN
CALSCALE:GREGORIAN
METHOD:PUBLISH
BEGIN:VEVENT
UID:750964-0
SUMMARY:Refuge Film Screening
DTSTART:20220906T180000Z
DTEND:20220906T200000Z
DTSTAMP:20220830T165152Z
LAST-MODIFIED:20220830T165153Z
SEQUENCE:0
DESCRIPTION:\nTuesday\, September 6 at 6 p.m. - Q&A will follow.\n\n\n\nScreening Location: Appalachian Center for the Arts 218 2nd St\, Pikeville\, KY 41501\n\n\n\nAdmission: Free with UPIKE ID\; $5 for General Public\; Can Pay at the Door\n\n\n\nFor the full slate of South Art films screening this Fall - Spring please check out: https://www.southarts.org/programs-conferences/southern-circuit-tour-independent-filmmakers\n\n\n\nFor more information please follow the FMA account on Facebook\, Twitter\, or Instagram using the handle @upikefma.  You can also email fmafest@upike.edu or call Professor Andrew Reed at 606-218-5972.\n\n\n\n\n
END:VEVENT
END:VCALENDAR