BEGIN:VCALENDAR
VERSION:2.0
PRODID:-//UPIKE//NONSGML v1.0//EN
CALSCALE:GREGORIAN
METHOD:PUBLISH
BEGIN:VEVENT
UID:750547-0
SUMMARY:12th Annual KYCOM CME & Alumni Weekend
DTSTART:20220916T000000Z
DTEND:20220918T235900Z
DTSTAMP:20220811T155358Z
LAST-MODIFIED:20220811T155359Z
SEQUENCE:0
DESCRIPTION:\nThe annual Kentucky College of Osteopathic Medicine Primary Care Continuing Medical Education and Alumni Weekend will be held September 16 – 18\, 2022. For additional information\, please contact Ms. Deean Skeens\, Director of Continuing Medical Education at DeeanSkeens@upike.edu or (606) 218-5413.\n\n\n\nDeadline to Register - September 1\, 2022\n
END:VEVENT
END:VCALENDAR