BEGIN:VCALENDAR
VERSION:2.0
PRODID:-//UPIKE//NONSGML v1.0//EN
CALSCALE:GREGORIAN
METHOD:PUBLISH
BEGIN:VEVENT
UID:750227-0
SUMMARY:9/19 10:30 AM University of Pikeville Women's Soccer at Warner University
DTSTART:20220919T143000Z
DTEND:20220919T163000Z
DTSTAMP:20220729T205405Z
LAST-MODIFIED:20220729T205405Z
SEQUENCE:0
DESCRIPTION:University of Pikeville Women's Soccer at Warner Universityn https://www.upikebears.com/calendar.aspx?id=6893
END:VEVENT
END:VCALENDAR