BEGIN:VCALENDAR
VERSION:2.0
PRODID:-//UPIKE//NONSGML v1.0//EN
CALSCALE:GREGORIAN
METHOD:PUBLISH
BEGIN:VEVENT
UID:750214-0
SUMMARY:8/31 6:30 PM University of Pikeville Women's Soccer vs Midway University
DTSTART:20220831T223000Z
DTEND:20220901T003000Z
DTSTAMP:20220729T205400Z
LAST-MODIFIED:20220729T205400Z
SEQUENCE:0
DESCRIPTION:University of Pikeville Women's Soccer vs Midway UniversitynStreaming Video: https://upikebears.com/sports/2020/10/14/upike-sports-network.aspxn https://www.upikebears.com/calendar.aspx?id=6888
END:VEVENT
END:VCALENDAR