BEGIN:VCALENDAR
VERSION:2.0
PRODID:-//UPIKE//NONSGML v1.0//EN
CALSCALE:GREGORIAN
METHOD:PUBLISH
BEGIN:VEVENT
UID:750207-0
SUMMARY:8/13 4:00 PM University of Pikeville Women's Soccer vs Tennessee Wesleyan University – Exhibition
DTSTART:20220813T200000Z
DTEND:20220813T220000Z
DTSTAMP:20220729T205357Z
LAST-MODIFIED:20220729T205357Z
SEQUENCE:0
DESCRIPTION:University of Pikeville Women's Soccer vs Tennessee Wesleyan University - Exhibitionn https://www.upikebears.com/calendar.aspx?id=6883
END:VEVENT
END:VCALENDAR