BEGIN:VCALENDAR
VERSION:2.0
PRODID:-//UPIKE//NONSGML v1.0//EN
CALSCALE:GREGORIAN
METHOD:PUBLISH
BEGIN:VEVENT
UID:750157-0
SUMMARY:9/6 6:00 PM University of Pikeville Volleyball vs Georgetown College
DTSTART:20220906T220000Z
DTEND:20220907T000000Z
DTSTAMP:20220727T235342Z
LAST-MODIFIED:20220727T235342Z
SEQUENCE:0
DESCRIPTION:University of Pikeville Volleyball vs Georgetown Collegen https://www.upikebears.com/calendar.aspx?id=6861
END:VEVENT
END:VCALENDAR