BEGIN:VCALENDAR
VERSION:2.0
PRODID:-//UPIKE//NONSGML v1.0//EN
CALSCALE:GREGORIAN
METHOD:PUBLISH
BEGIN:VEVENT
UID:750155-0
SUMMARY:9/8 7:00 PM University of Pikeville Volleyball at University of the Cumberlands
DTSTART:20220908T230000Z
DTEND:20220909T010000Z
DTSTAMP:20220727T235341Z
LAST-MODIFIED:20220727T235341Z
SEQUENCE:0
DESCRIPTION:University of Pikeville Volleyball at University of the Cumberlandsn https://www.upikebears.com/calendar.aspx?id=6862
END:VEVENT
END:VCALENDAR