BEGIN:VCALENDAR
VERSION:2.0
PRODID:-//UPIKE//NONSGML v1.0//EN
CALSCALE:GREGORIAN
METHOD:PUBLISH
BEGIN:VEVENT
UID:750149-0
SUMMARY:10/7 1:00 PM University of Pikeville Volleyball vs Cumberland University
DTSTART:20221007T170000Z
DTEND:20221007T190000Z
DTSTAMP:20220727T235338Z
LAST-MODIFIED:20220727T235338Z
SEQUENCE:0
DESCRIPTION:University of Pikeville Volleyball vs Cumberland Universityn https://www.upikebears.com/calendar.aspx?id=6872
END:VEVENT
END:VCALENDAR