BEGIN:VCALENDAR
VERSION:2.0
PRODID:-//UPIKE//NONSGML v1.0//EN
CALSCALE:GREGORIAN
METHOD:PUBLISH
BEGIN:VEVENT
UID:750145-0
SUMMARY:10/11 7:00 PM University of Pikeville Volleyball vs University of the Cumberlands
DTSTART:20221011T230000Z
DTEND:20221012T010000Z
DTSTAMP:20220727T235337Z
LAST-MODIFIED:20220727T235337Z
SEQUENCE:0
DESCRIPTION:University of Pikeville Volleyball vs University of the Cumberlandsn https://www.upikebears.com/calendar.aspx?id=6874
END:VEVENT
END:VCALENDAR