BEGIN:VCALENDAR
VERSION:2.0
PRODID:-//UPIKE//NONSGML v1.0//EN
CALSCALE:GREGORIAN
METHOD:PUBLISH
BEGIN:VEVENT
UID:750137-0
SUMMARY:2/17 University of Pikeville Men's Wrestling at Conference Tournament
DTSTART:20230217T000000Z
DTEND:20230217T080000Z
DTSTAMP:20220727T195404Z
LAST-MODIFIED:20220727T195404Z
SEQUENCE:0
DESCRIPTION:University of Pikeville Men's Wrestling at Conference Tournamentn https://www.upikebears.com/calendar.aspx?id=6851
END:VEVENT
END:VCALENDAR