BEGIN:VCALENDAR
VERSION:2.0
PRODID:-//UPIKE//NONSGML v1.0//EN
CALSCALE:GREGORIAN
METHOD:PUBLISH
BEGIN:VEVENT
UID:750129-0
SUMMARY:1/5 University of Pikeville Men's Wrestling at Waldorf
DTSTART:20230105T000000Z
DTEND:20230105T080000Z
DTSTAMP:20220727T195401Z
LAST-MODIFIED:20220727T195401Z
SEQUENCE:0
DESCRIPTION:University of Pikeville Men's Wrestling at Waldorfn https://www.upikebears.com/calendar.aspx?id=6847
END:VEVENT
END:VCALENDAR