BEGIN:VCALENDAR
VERSION:2.0
PRODID:-//UPIKE//NONSGML v1.0//EN
CALSCALE:GREGORIAN
METHOD:PUBLISH
BEGIN:VEVENT
UID:750121-0
SUMMARY:12/2 University of Pikeville Men's Wrestling at Campbellsville
DTSTART:20221202T000000Z
DTEND:20221202T080000Z
DTSTAMP:20220727T195358Z
LAST-MODIFIED:20220727T195358Z
SEQUENCE:0
DESCRIPTION:University of Pikeville Men's Wrestling at Campbellsvillen https://www.upikebears.com/calendar.aspx?id=6841
END:VEVENT
END:VCALENDAR