BEGIN:VCALENDAR
VERSION:2.0
PRODID:-//UPIKE//NONSGML v1.0//EN
CALSCALE:GREGORIAN
METHOD:PUBLISH
BEGIN:VEVENT
UID:747835-0
SUMMARY:Frank M. Allara Open House
DTSTART:20220623T160000Z
DTEND:20220623T200000Z
DTSTAMP:20220610T192142Z
LAST-MODIFIED:20220610T192143Z
SEQUENCE:0
DESCRIPTION:\nEnjoy a display of campus throughout the years and view plans for upcoming changes to the library courtyard.\n\n\n\n\n
END:VEVENT
END:VCALENDAR