BEGIN:VCALENDAR
VERSION:2.0
PRODID:-//UPIKE//NONSGML v1.0//EN
CALSCALE:GREGORIAN
METHOD:PUBLISH
BEGIN:VEVENT
UID:747828-0
SUMMARY:11/12 2:30 PM University of Pikeville Football at Faulkner University (Ala.)
DTSTART:20221112T193000Z
DTEND:20221112T223000Z
DTSTAMP:20220609T185338Z
LAST-MODIFIED:20220609T185338Z
SEQUENCE:0
DESCRIPTION:University of Pikeville Football at Faulkner University (Ala.)nStreaming Video: https://www.youtube.com/FaulknerSportsNetworkn https://www.upikebears.com/calendar.aspx?id=6788
END:VEVENT
END:VCALENDAR