BEGIN:VCALENDAR
VERSION:2.0
PRODID:-//UPIKE//NONSGML v1.0//EN
CALSCALE:GREGORIAN
METHOD:PUBLISH
BEGIN:VEVENT
UID:747815-0
SUMMARY:9/10 7:00 PM University of Pikeville Football vs Kentucky Christian University – Black Out Game
DTSTART:20220910T230000Z
DTEND:20220911T020000Z
DTSTAMP:20220609T185333Z
LAST-MODIFIED:20220609T185333Z
SEQUENCE:0
LOCATION:Pikeville, Ky., Hambley Athletic Complex
DESCRIPTION:University of Pikeville Football vs Kentucky Christian University - Black Out GamenStreaming Video: http://www.upikebears.com/services/upikebears.com/watchn https://www.upikebears.com/calendar.aspx?id=6779
END:VEVENT
END:VCALENDAR