BEGIN:VCALENDAR
VERSION:2.0
PRODID:-//UPIKE//NONSGML v1.0//EN
CALSCALE:GREGORIAN
METHOD:PUBLISH
BEGIN:VEVENT
UID:746589-0
SUMMARY:4/29 2:00 PM University of Pikeville Baseball at (RV) Georgetown College (Ky.) – Opening Round | If Necessary
DTSTART:20220429T180000Z
DTEND:20220429T210000Z
DTSTAMP:20220427T155322Z
LAST-MODIFIED:20220427T155322Z
SEQUENCE:0
DESCRIPTION:University of Pikeville Baseball at (RV) Georgetown College (Ky.) - Opening Round | If Necessaryn https://www.upikebears.com/calendar.aspx?id=6773
END:VEVENT
END:VCALENDAR