BEGIN:VCALENDAR
VERSION:2.0
PRODID:-//UPIKE//NONSGML v1.0//EN
CALSCALE:GREGORIAN
METHOD:PUBLISH
BEGIN:VEVENT
UID:746513-0
SUMMARY:4/29 6:00 PM University of Pikeville Baseball at (RV) Georgetown College (Ky.) – Opening Round
DTSTART:20220429T220000Z
DTEND:20220430T010000Z
DTSTAMP:20220426T205321Z
LAST-MODIFIED:20220426T205321Z
SEQUENCE:0
DESCRIPTION:University of Pikeville Baseball at (RV) Georgetown College (Ky.) - Opening Roundn https://www.upikebears.com/calendar.aspx?id=6771
END:VEVENT
END:VCALENDAR