BEGIN:VCALENDAR
VERSION:2.0
PRODID:-//UPIKE//NONSGML v1.0//EN
CALSCALE:GREGORIAN
METHOD:PUBLISH
BEGIN:VEVENT
UID:746430-0
SUMMARY:8th Annual UPIKE FMA Fest
DTSTART:20220428T170000Z
DTEND:20220430T220000Z
DTSTAMP:20220425T165245Z
LAST-MODIFIED:20220425T165246Z
SEQUENCE:0
DESCRIPTION:\nJoin the University of Pikeville Film and Media Arts Program for a three-day film festival we are hosting at the Appalachian Center for the Arts. \n\n\n\nThursday\, April 28 - Saturday\, April 30\n
END:VEVENT
END:VCALENDAR