BEGIN:VCALENDAR
VERSION:2.0
PRODID:-//UPIKE//NONSGML v1.0//EN
CALSCALE:GREGORIAN
METHOD:PUBLISH
BEGIN:VEVENT
UID:745996-0
SUMMARY:UPIKE Commencement
DTSTART:20220507T140000Z
DTEND:20220507T160000Z
DTSTAMP:20220412T194709Z
LAST-MODIFIED:20220412T194710Z
SEQUENCE:0
LOCATION:Appalachian Wireless Arena &#8211; UPIKE Events
DESCRIPTION:\nLocation:  Appalachia Wireless Arena\n\n\n\nDate/Time:  May 7th\, 2022 - 2:00 P.M.\n\n\n\nCommencement will be streamed live on UPIKE Facebook page.\n
END:VEVENT
END:VCALENDAR