BEGIN:VCALENDAR
VERSION:2.0
PRODID:-//UPIKE//NONSGML v1.0//EN
CALSCALE:GREGORIAN
METHOD:PUBLISH
BEGIN:VEVENT
UID:745979-0
SUMMARY:Health Professions Commencement
DTSTART:20220507T093000Z
DTEND:20220507T110000Z
DTSTAMP:20220412T194606Z
LAST-MODIFIED:20250510T104148Z
SEQUENCE:0
LOCATION:Appalachian Wireless Arena &#8211; UPIKE Events
DESCRIPTION:\nLocation:  Appalachia Wireless Arena\n\n\n\nDate/Time:  May 7th\, 2022 - 9:30 A.M.\n\n\n\nCommencement will be streamed live on UPIKE Facebook page.\n
END:VEVENT
END:VCALENDAR