BEGIN:VCALENDAR
VERSION:2.0
PRODID:-//UPIKE//NONSGML v1.0//EN
CALSCALE:GREGORIAN
METHOD:PUBLISH
BEGIN:VEVENT
UID:745133-0
SUMMARY:Rock and Jazz Band Concert
DTSTART:20220414T180000Z
DTEND:20220414T200000Z
DTSTAMP:20220325T133023Z
LAST-MODIFIED:20220325T133025Z
SEQUENCE:0
DESCRIPTION:\nApril 14 at 6 p.m. in Booth auditorium\n\n\n\nFree Admission\n
END:VEVENT
END:VCALENDAR