BEGIN:VCALENDAR
VERSION:2.0
PRODID:-//UPIKE//NONSGML v1.0//EN
CALSCALE:GREGORIAN
METHOD:PUBLISH
BEGIN:VEVENT
UID:744334-0
SUMMARY:INTERMISSION\, a retrospective of the art of Patricia Kowalok
DTSTART:20220428T170000Z
DTEND:20220428T180000Z
DTSTAMP:20220308T152548Z
LAST-MODIFIED:20220308T152707Z
SEQUENCE:0
DESCRIPTION:\nThe exhibit will be a collection of work done by Patricia Kowalok--over the past 30 years. "Intermission" signals the space of time between teaching and retirement.\n\n\n\nThe exhibit will be a time to reflect on the passage of time and the transition to the future.\n\n\n\n"Meet the Artist" event associated with the "Remake Learning" Festival (4/28)(5:00-6:30).\n\n\n\nThe public is welcomed at all events.\n
END:VEVENT
END:VCALENDAR