BEGIN:VCALENDAR
VERSION:2.0
PRODID:-//UPIKE//NONSGML v1.0//EN
CALSCALE:GREGORIAN
METHOD:PUBLISH
BEGIN:VEVENT
UID:743923-0
SUMMARY:2/26 1:30 PM University of Pikeville Men's Basketball vs Thomas More University
DTSTART:20220226T183000Z
DTEND:20220226T203000Z
DTSTAMP:20220223T025322Z
LAST-MODIFIED:20220223T025322Z
SEQUENCE:0
DESCRIPTION:University of Pikeville Men's Basketball vs Thomas More Universityn https://www.upikebears.com/calendar.aspx?id=6741
END:VEVENT
END:VCALENDAR