BEGIN:VCALENDAR
VERSION:2.0
PRODID:-//UPIKE//NONSGML v1.0//EN
CALSCALE:GREGORIAN
METHOD:PUBLISH
BEGIN:VEVENT
UID:743456-0
SUMMARY:Campus Vision Screening
DTSTART:20220218T090000Z
DTEND:20220218T150000Z
DTSTAMP:20220208T163735Z
LAST-MODIFIED:20220208T163736Z
SEQUENCE:0
DESCRIPTION:\nFriday\, February 18th from 9 AM - 3 PM\n\n\n\n6th Floor Lobby HPEB\n\n\n\nParticipants will be entered in a drawing for several door prizes.\n
END:VEVENT
END:VCALENDAR