BEGIN:VCALENDAR
VERSION:2.0
PRODID:-//UPIKE//NONSGML v1.0//EN
CALSCALE:GREGORIAN
METHOD:PUBLISH
BEGIN:VEVENT
UID:743064-0
SUMMARY:Casino Night
DTSTART:20220202T193000Z
DTEND:20220202T210000Z
DTSTAMP:20220127T171550Z
LAST-MODIFIED:20220127T172939Z
SEQUENCE:0
DESCRIPTION:\nFeb. 2nd\, 2022\n\n\n\nBooth Auditorium - 7:30pm\n
END:VEVENT
END:VCALENDAR