BEGIN:VCALENDAR
VERSION:2.0
PRODID:-//UPIKE//NONSGML v1.0//EN
CALSCALE:GREGORIAN
METHOD:PUBLISH
BEGIN:VEVENT
UID:743044-0
SUMMARY:Etiquette Dinner
DTSTART:20220301T173000Z
DTEND:20220301T193000Z
DTSTAMP:20220127T163439Z
LAST-MODIFIED:20220127T163440Z
SEQUENCE:0
LOCATION:UPIKE &#8211; Health Professions Education Building
DESCRIPTION:\nMore Than Manners – Workplace Etiquette\n\n\n\nMarch 1\, 2022  - 5:30 - 7:00pm - HPE Building\, 7th Floor\n\n\n\nWhen it comes to working\, etiquette matters. How you present yourself and interact with others speaks to who you are as a person and team member and can directly influence the trajectory of your career. \n\n\n\nPre-Registration Required:  https://docs.google.com/forms/d/e/1FAIpQLScpld7UAsNVIqts0X96jaB4C0IJyiAQ_j4fSHBtcE_Ta1i7CA/viewform?usp=sf_link \n\n\n\nEtiquette Dinner Registration\n\n\n\nIF YOU REGISTER FOR THIS EVENT AND NO SHOW\, YOU WILL BE CHARGED $20.  \n\n\n\nEvent is Free if you pre-register AND attend\n
END:VEVENT
END:VCALENDAR