BEGIN:VCALENDAR
VERSION:2.0
PRODID:-//UPIKE//NONSGML v1.0//EN
CALSCALE:GREGORIAN
METHOD:PUBLISH
BEGIN:VEVENT
UID:742820-0
SUMMARY:2/26 1:00 PM University of Pikeville Men's Tennis at Milligan University
DTSTART:20220226T180000Z
DTEND:20220226T210000Z
DTSTAMP:20220124T195344Z
LAST-MODIFIED:20220124T195344Z
SEQUENCE:0
DESCRIPTION:University of Pikeville Men's Tennis at Milligan Universityn https://www.upikebears.com/calendar.aspx?id=6710
END:VEVENT
END:VCALENDAR