BEGIN:VCALENDAR
VERSION:2.0
PRODID:-//UPIKE//NONSGML v1.0//EN
CALSCALE:GREGORIAN
METHOD:PUBLISH
BEGIN:VEVENT
UID:742376-0
SUMMARY:4/8 3:00 PM University of Pikeville Women's Tennis at Shawnee State University (Ohio)
DTSTART:20220408T190000Z
DTEND:20220408T220000Z
DTSTAMP:20220112T205333Z
LAST-MODIFIED:20220112T205333Z
SEQUENCE:0
DESCRIPTION:University of Pikeville Women's Tennis at Shawnee State University (Ohio)n https://www.upikebears.com/calendar.aspx?id=6700
END:VEVENT
END:VCALENDAR