BEGIN:VCALENDAR
VERSION:2.0
PRODID:-//UPIKE//NONSGML v1.0//EN
CALSCALE:GREGORIAN
METHOD:PUBLISH
BEGIN:VEVENT
UID:742373-0
SUMMARY:3/31 12:00 PM University of Pikeville Women's Tennis at Midway University (Ky.)
DTSTART:20220331T160000Z
DTEND:20220331T190000Z
DTSTAMP:20220112T205331Z
LAST-MODIFIED:20220112T205331Z
SEQUENCE:0
DESCRIPTION:University of Pikeville Women's Tennis at Midway University (Ky.)n https://www.upikebears.com/calendar.aspx?id=6697
END:VEVENT
END:VCALENDAR