BEGIN:VCALENDAR
VERSION:2.0
PRODID:-//UPIKE//NONSGML v1.0//EN
CALSCALE:GREGORIAN
METHOD:PUBLISH
BEGIN:VEVENT
UID:742211-0
SUMMARY:1/21 University of Pikeville Archery  MSC Indoor Championships
DTSTART:20220121T000000Z
DTEND:20220123T045900Z
DTSTAMP:20220111T155321Z
LAST-MODIFIED:20220111T155321Z
SEQUENCE:0
DESCRIPTION:University of Pikeville Archery  MSC Indoor Championshipsn https://www.upikebears.com/calendar.aspx?id=6672
END:VEVENT
END:VCALENDAR