BEGIN:VCALENDAR
VERSION:2.0
PRODID:-//UPIKE//NONSGML v1.0//EN
CALSCALE:GREGORIAN
METHOD:PUBLISH
BEGIN:VEVENT
UID:742142-0
SUMMARY:3/12 University of Pikeville Women's Bowling vs USBC ITC Sectionals
DTSTART:20220312T000000Z
DTEND:20220313T045900Z
DTSTAMP:20220110T175333Z
LAST-MODIFIED:20220110T175333Z
SEQUENCE:0
DESCRIPTION:University of Pikeville Women's Bowling vs USBC ITC Sectionalsn https://www.upikebears.com/calendar.aspx?id=6668
END:VEVENT
END:VCALENDAR