BEGIN:VCALENDAR
VERSION:2.0
PRODID:-//UPIKE//NONSGML v1.0//EN
CALSCALE:GREGORIAN
METHOD:PUBLISH
BEGIN:VEVENT
UID:741141-0
SUMMARY:Martin Luther King Day (Holiday/No Classes)
DTSTART:20220117T000000Z
DTEND:20220117T235900Z
DTSTAMP:20211214T204012Z
LAST-MODIFIED:20211214T204022Z
SEQUENCE:0
DESCRIPTION:
END:VEVENT
END:VCALENDAR