BEGIN:VCALENDAR
VERSION:2.0
PRODID:-//UPIKE//NONSGML v1.0//EN
CALSCALE:GREGORIAN
METHOD:PUBLISH
BEGIN:VEVENT
UID:741136-0
SUMMARY:Women Leading in the 21st Century Virtual Roundtable
DTSTART:20220114T150000Z
DTEND:20220114T160000Z
DTSTAMP:20211214T203609Z
LAST-MODIFIED:20211214T203818Z
SEQUENCE:0
DESCRIPTION:\nPlease mark your calendars for a special event on Friday\, January 14 at 3 p.m. Join us on Zoom as we host a Women in Leadership panel with three distinguished individuals. Our panelists have devoted much of their professional experiences to learning and leading within a higher education environment or the business sector.\n\n\n\nPanelistsDr. Margaret Annunziata\, PresidentIsothermal Community College\n\n\n\nDr. Gail F. Baker\, Vice President and ProvostUniversity of San Diego\n\n\n\nJanice Way\, PresidentLeadership KentuckyUniversity of Pikeville Board of Trustees MemberPikeville College Alum\n\n\n\nR.S.V.P. to receive the zoom link.\n
END:VEVENT
END:VCALENDAR