BEGIN:VCALENDAR
VERSION:2.0
PRODID:-//UPIKE//NONSGML v1.0//EN
CALSCALE:GREGORIAN
METHOD:PUBLISH
BEGIN:VEVENT
UID:740931-0
SUMMARY:4/4 University of Pikeville Men's Golf vs MSC Spring Showcase
DTSTART:20220404T000000Z
DTEND:20220405T035900Z
DTSTAMP:20211206T205357Z
LAST-MODIFIED:20211206T205357Z
SEQUENCE:0
DESCRIPTION:University of Pikeville Men's Golf vs MSC Spring Showcasen https://www.upikebears.com/calendar.aspx?id=6659
END:VEVENT
END:VCALENDAR