BEGIN:VCALENDAR
VERSION:2.0
PRODID:-//UPIKE//NONSGML v1.0//EN
CALSCALE:GREGORIAN
METHOD:PUBLISH
BEGIN:VEVENT
UID:740698-0
SUMMARY:2/15 2:00 PM University of Pikeville Baseball at Johnson University
DTSTART:20220215T190000Z
DTEND:20220215T220000Z
DTSTAMP:20211201T225336Z
LAST-MODIFIED:20211201T225336Z
SEQUENCE:0
DESCRIPTION:University of Pikeville Baseball at Johnson Universityn https://www.upikebears.com/calendar.aspx?id=6614
END:VEVENT
END:VCALENDAR