BEGIN:VCALENDAR
VERSION:2.0
PRODID:-//UPIKE//NONSGML v1.0//EN
CALSCALE:GREGORIAN
METHOD:PUBLISH
BEGIN:VEVENT
UID:740696-0
SUMMARY:2/12 12:00 PM University of Pikeville Baseball vs Cleary University
DTSTART:20220212T170000Z
DTEND:20220212T200000Z
DTSTAMP:20211201T225335Z
LAST-MODIFIED:20211201T225335Z
SEQUENCE:0
DESCRIPTION:University of Pikeville Baseball vs Cleary UniversitynStreaming Video: https://upikebears.com/sports/2020/10/14/upike-sports-network.aspxn https://www.upikebears.com/calendar.aspx?id=6612
END:VEVENT
END:VCALENDAR