BEGIN:VCALENDAR
VERSION:2.0
PRODID:-//UPIKE//NONSGML v1.0//EN
CALSCALE:GREGORIAN
METHOD:PUBLISH
BEGIN:VEVENT
UID:740688-0
SUMMARY:4/5 3:00 PM University of Pikeville Baseball at Bluefield University
DTSTART:20220405T190000Z
DTEND:20220405T220000Z
DTSTAMP:20211201T225333Z
LAST-MODIFIED:20211201T225333Z
SEQUENCE:0
DESCRIPTION:University of Pikeville Baseball at Bluefield Universityn https://www.upikebears.com/calendar.aspx?id=6642
END:VEVENT
END:VCALENDAR