BEGIN:VCALENDAR
VERSION:2.0
PRODID:-//UPIKE//NONSGML v1.0//EN
CALSCALE:GREGORIAN
METHOD:PUBLISH
BEGIN:VEVENT
UID:739483-0
SUMMARY:3/26 2:00 PM University of Pikeville Softball at Campbellsville University (Ky.)
DTSTART:20220326T180000Z
DTEND:20220326T200000Z
DTSTAMP:20211108T175336Z
LAST-MODIFIED:20211108T175336Z
SEQUENCE:0
DESCRIPTION:University of Pikeville Softball at Campbellsville University (Ky.)n https://www.upikebears.com/calendar.aspx?id=6597
END:VEVENT
END:VCALENDAR