BEGIN:VCALENDAR
VERSION:2.0
PRODID:-//UPIKE//NONSGML v1.0//EN
CALSCALE:GREGORIAN
METHOD:PUBLISH
BEGIN:VEVENT
UID:739476-0
SUMMARY:3/18 2:00 PM University of Pikeville Softball vs Cumberland University (Tenn.)
DTSTART:20220318T180000Z
DTEND:20220318T200000Z
DTSTAMP:20211108T175334Z
LAST-MODIFIED:20211108T175334Z
SEQUENCE:0
LOCATION:Pikeville, Ky., Paul Butcher Field
DESCRIPTION:University of Pikeville Softball vs Cumberland University (Tenn.)n https://www.upikebears.com/calendar.aspx?id=6561
END:VEVENT
END:VCALENDAR