BEGIN:VCALENDAR
VERSION:2.0
PRODID:-//UPIKE//NONSGML v1.0//EN
CALSCALE:GREGORIAN
METHOD:PUBLISH
BEGIN:VEVENT
UID:739474-0
SUMMARY:3/17 2:00 PM University of Pikeville Softball vs Miami University (Hamilton)
DTSTART:20220317T180000Z
DTEND:20220317T200000Z
DTSTAMP:20211108T175334Z
LAST-MODIFIED:20211108T175334Z
SEQUENCE:0
LOCATION:Pikeville, Ky., Paul Butcher Field
DESCRIPTION:University of Pikeville Softball vs Miami University (Hamilton)n https://www.upikebears.com/calendar.aspx?id=6560
END:VEVENT
END:VCALENDAR