BEGIN:VCALENDAR
VERSION:2.0
PRODID:-//UPIKE//NONSGML v1.0//EN
CALSCALE:GREGORIAN
METHOD:PUBLISH
BEGIN:VEVENT
UID:739432-0
SUMMARY:3/6 2:00 PM University of Pikeville Softball at Montreat College (N.C.)
DTSTART:20220306T190000Z
DTEND:20220306T210000Z
DTSTAMP:20211108T175323Z
LAST-MODIFIED:20211108T175323Z
SEQUENCE:0
DESCRIPTION:University of Pikeville Softball at Montreat College (N.C.)n https://www.upikebears.com/calendar.aspx?id=6555
END:VEVENT
END:VCALENDAR