BEGIN:VCALENDAR
VERSION:2.0
PRODID:-//UPIKE//NONSGML v1.0//EN
CALSCALE:GREGORIAN
METHOD:PUBLISH
BEGIN:VEVENT
UID:739424-0
SUMMARY:2/25 2:00 PM University of Pikeville Softball at Bethel University (Tenn.)
DTSTART:20220225T190000Z
DTEND:20220225T210000Z
DTSTAMP:20211108T175321Z
LAST-MODIFIED:20211108T175321Z
SEQUENCE:0
DESCRIPTION:University of Pikeville Softball at Bethel University (Tenn.)n https://www.upikebears.com/calendar.aspx?id=6552
END:VEVENT
END:VCALENDAR