BEGIN:VCALENDAR
VERSION:2.0
PRODID:-//UPIKE//NONSGML v1.0//EN
CALSCALE:GREGORIAN
METHOD:PUBLISH
BEGIN:VEVENT
UID:739108-0
SUMMARY:11/1 4:00 PM University of Pikeville Women's Soccer at University of the Cumberlands (Ky.)
DTSTART:20211101T200000Z
DTEND:20211101T220000Z
DTSTAMP:20211030T215324Z
LAST-MODIFIED:20211030T215324Z
SEQUENCE:0
DESCRIPTION:University of Pikeville Women's Soccer at University of the Cumberlands (Ky.)n https://www.upikebears.com/calendar.aspx?id=6543
END:VEVENT
END:VCALENDAR