BEGIN:VCALENDAR
VERSION:2.0
PRODID:-//UPIKE//NONSGML v1.0//EN
CALSCALE:GREGORIAN
METHOD:PUBLISH
BEGIN:VEVENT
UID:724437-0
SUMMARY:Lighting of Campus
DTSTART:20211028T203000Z
DTEND:20211028T213000Z
DTSTAMP:20211010T220552Z
LAST-MODIFIED:20211012T202035Z
SEQUENCE:0
LOCATION:UPIKE Campus &#8211; Benefactors Plaza
DESCRIPTION:
END:VEVENT
END:VCALENDAR