BEGIN:VCALENDAR
VERSION:2.0
PRODID:-//UPIKE//NONSGML v1.0//EN
CALSCALE:GREGORIAN
METHOD:PUBLISH
BEGIN:VEVENT
UID:709612-0
SUMMARY:1/15 University of Pikeville Men's Track and Field  Spire Collegiate Season Opener
DTSTART:20220115T000000Z
DTEND:20220115T080000Z
DTSTAMP:20210930T185322Z
LAST-MODIFIED:20210930T185322Z
SEQUENCE:0
DESCRIPTION:University of Pikeville Men's Track and Field  Spire Collegiate Season Openern https://www.upikebears.com/calendar.aspx?id=6523
END:VEVENT
END:VCALENDAR