BEGIN:VCALENDAR
VERSION:2.0
PRODID:-//UPIKE//NONSGML v1.0//EN
CALSCALE:GREGORIAN
METHOD:PUBLISH
BEGIN:VEVENT
UID:709609-0
SUMMARY:1/7 University of Pikeville Women's Track and Field  Pioneer Open
DTSTART:20220107T000000Z
DTEND:20220107T080000Z
DTSTAMP:20210930T185322Z
LAST-MODIFIED:20210930T185322Z
SEQUENCE:0
DESCRIPTION:University of Pikeville Women's Track and Field  Pioneer Openn https://www.upikebears.com/calendar.aspx?id=6530
END:VEVENT
END:VCALENDAR