BEGIN:VCALENDAR
VERSION:2.0
PRODID:-//UPIKE//NONSGML v1.0//EN
CALSCALE:GREGORIAN
METHOD:PUBLISH
BEGIN:VEVENT
UID:6966-0
SUMMARY:5/16 University of Pikeville Archery  Outdoor Nationals
DTSTART:20190516T000000Z
DTEND:20190519T035900Z
DTSTAMP:20190313T155407Z
LAST-MODIFIED:20190313T155407Z
SEQUENCE:0
DESCRIPTION:University of Pikeville Archery  Outdoor Nationalsn https://www.upikebears.com/calendar.aspx?id=5013
END:VEVENT
END:VCALENDAR