BEGIN:VCALENDAR
VERSION:2.0
PRODID:-//UPIKE//NONSGML v1.0//EN
CALSCALE:GREGORIAN
METHOD:PUBLISH
BEGIN:VEVENT
UID:694745-0
SUMMARY:2/7 8:00 PM University of Pikeville Men's Basketball at  University of the Cumberland’s
DTSTART:20220208T010000Z
DTEND:20220208T030000Z
DTSTAMP:20210920T165326Z
LAST-MODIFIED:20210920T165326Z
SEQUENCE:0
DESCRIPTION:University of Pikeville Men's Basketball at  University of the Cumberland’sn https://www.upikebears.com/calendar.aspx?id=6508
END:VEVENT
END:VCALENDAR