BEGIN:VCALENDAR
VERSION:2.0
PRODID:-//UPIKE//NONSGML v1.0//EN
CALSCALE:GREGORIAN
METHOD:PUBLISH
BEGIN:VEVENT
UID:694729-0
SUMMARY:12/2 8:00 PM University of Pikeville Men's Basketball at  Life University
DTSTART:20211203T010000Z
DTEND:20211203T030000Z
DTSTAMP:20210920T165323Z
LAST-MODIFIED:20210920T165323Z
SEQUENCE:0
DESCRIPTION:University of Pikeville Men's Basketball at  Life Universityn https://www.upikebears.com/calendar.aspx?id=6490
END:VEVENT
END:VCALENDAR