BEGIN:VCALENDAR
VERSION:2.0
PRODID:-//UPIKE//NONSGML v1.0//EN
CALSCALE:GREGORIAN
METHOD:PUBLISH
BEGIN:VEVENT
UID:694727-0
SUMMARY:12/8 6:00 PM University of Pikeville Men's Basketball vs Kentucky Christian University
DTSTART:20211208T230000Z
DTEND:20211209T010000Z
DTSTAMP:20210920T165322Z
LAST-MODIFIED:20210920T165322Z
SEQUENCE:0
DESCRIPTION:University of Pikeville Men's Basketball vs Kentucky Christian Universityn https://www.upikebears.com/calendar.aspx?id=6492
END:VEVENT
END:VCALENDAR